BEGIN:VCALENDAR
VERSION:2.0
PRODID:-//Turismo - ECPv6.15.13.1//NONSGML v1.0//EN
CALSCALE:GREGORIAN
METHOD:PUBLISH
X-ORIGINAL-URL:https://cazorla.es/turismo
X-WR-CALDESC:Eventos para Turismo
REFRESH-INTERVAL;VALUE=DURATION:PT1H
X-Robots-Tag:noindex
X-PUBLISHED-TTL:PT1H
BEGIN:VTIMEZONE
TZID:UTC
BEGIN:STANDARD
TZOFFSETFROM:+0000
TZOFFSETTO:+0000
TZNAME:UTC
DTSTART:20190101T000000
END:STANDARD
END:VTIMEZONE
BEGIN:VEVENT
DTSTART;TZID=UTC:20200303T080000
DTEND;TZID=UTC:20200303T080000
DTSTAMP:20260423T053756
CREATED:20200127T124147Z
LAST-MODIFIED:20200127T124147Z
UID:4336-1583222400-1583222400@cazorla.es
SUMMARY:Pruebas de acceso a la Escuela de Escritores/as Noveles
DESCRIPTION:   Ayuntamiento de Cazorla\n\n\n\n\n\n\n\n\n\n\n\n📢❗️ El Centro Andaluz de las Letras abre el plazo de las pruebas de acceso a la Escuela de Escritores y Escritoras Noveles\, dirigida a jóvenes residentes en #Andalucía de entre 12 y 20 años. ✍️ ¿Te gusta escribir? Presenta tus textos hasta el 3 de marzo 📤 http://lajunta.es/24jc5
URL:https://cazorla.es/turismo/events/pruebas-de-acceso-a-la-escuela-de-escritoresas-noveles-2/
LOCATION:JAÉN
END:VEVENT
BEGIN:VEVENT
DTSTART;TZID=UTC:20200307T080000
DTEND;TZID=UTC:20200308T140000
DTSTAMP:20260423T053756
CREATED:20200203T114746Z
LAST-MODIFIED:20200203T114746Z
UID:4346-1583568000-1583676000@cazorla.es
SUMMARY:X ENCUENTRO ANDALUZ DE MUJERES MONTAÑERAS
DESCRIPTION:   Ayuntamiento de Cazorla \n\n\n\n\n\n\n\n\n\n \n🌄 #Cazorla acoge este año el X Encuentro Andaluz de Mujeres Montañeras \nEl Albergue Inturjoven de Cazorla (Jaén) y su entorno van a acoger el Encuentro Andaluz de Mujeres Montañeras\, organizado por el Área de Igual de Género de la Federación Andaluza de Montañismo\, y que tendrá lugar coincidiendo con el día de la Mujer\, el fin de semana del 7️⃣ y 8️⃣ de marzo. \n💻En el siguiente enlace podréis acce… Ver más
URL:https://cazorla.es/turismo/events/x-encuentro-andaluz-de-mujeres-montaneras/
LOCATION:JAÉN
END:VEVENT
END:VCALENDAR