BEGIN:VCALENDAR
VERSION:2.0
PRODID:-//Turismo - ECPv6.15.13.1//NONSGML v1.0//EN
CALSCALE:GREGORIAN
METHOD:PUBLISH
X-ORIGINAL-URL:https://cazorla.es/turismo
X-WR-CALDESC:Eventos para Turismo
REFRESH-INTERVAL;VALUE=DURATION:PT1H
X-Robots-Tag:noindex
X-PUBLISHED-TTL:PT1H
BEGIN:VTIMEZONE
TZID:UTC
BEGIN:STANDARD
TZOFFSETFROM:+0000
TZOFFSETTO:+0000
TZNAME:UTC
DTSTART:20190101T000000
END:STANDARD
END:VTIMEZONE
BEGIN:VEVENT
DTSTART;TZID=UTC:20200417T080000
DTEND;TZID=UTC:20200417T140000
DTSTAMP:20260423T034612
CREATED:20200213T102127Z
LAST-MODIFIED:20200213T103604Z
UID:4370-1587110400-1587132000@cazorla.es
SUMMARY:Concurso de derechos humanos para estudiantes de la provincia de Jaén
DESCRIPTION:   Ayuntamiento de Cazorla\n\n\n\n\nEstudiantes de la provincia de Jaén tienen hasta el  17 de abril para participar en un concurso de derechos humanos. \n‍‍La Fundación Internacional Baltasar Garzón (Fibgar)\, en colaboración con la Diputación Provincial de Jaén\, el Ayuntamiento de Cazorla y la Junta de Andalucía ha convocado la séptima edición del concurso provincial  ‘ ú\, ¿é ?’\, con el que se propone a los estudiantes jiennenses la elaboración de trabajos creativos en los que reflexionen sobre la situación actual de esta Declaración Universal. \nToda la información en  https://www.fibgar.org/ \nPuedes leer la noticia aquí ▶️ https://bit.ly/2SK61m1
URL:https://cazorla.es/turismo/events/concurso-de-derechos-humanos-para-estudiantes-de-la-provincia-de-jaen/
LOCATION:JAÉN
END:VEVENT
BEGIN:VEVENT
DTSTART;TZID=UTC:20200430T080000
DTEND;TZID=UTC:20200430T190000
DTSTAMP:20260423T034612
CREATED:20200203T113543Z
LAST-MODIFIED:20200203T113543Z
UID:4344-1588233600-1588273200@cazorla.es
SUMMARY:Campaña para presentar las solicitudes de ayuda para la PAC 2020
DESCRIPTION:   Ayuntamiento de Cazorla\n\n\n\n\n\n\n\n\n\n\n🌾Ya ha comenzado la campaña para presentar las solicitudes de #ayudas directas de la #PAC para 2020. \n👩‍🌾Más de 693.000 productores podrán presentar la solicitud.\n💶El importe total de las ayudas asciende a 4.954 millones de €.\n🗓️El plazo de solicitud es hasta el 30 de abril.\nhttps://www.lamoncloa.gob.es/serviciosdeprensa/notasprensa/agricultura/Paginas/310120-ayudaspac.aspx
URL:https://cazorla.es/turismo/events/campana-para-presentar-las-solicitudes-de-ayuda-para-la-pac-2020/
LOCATION:JAÉN
END:VEVENT
END:VCALENDAR