BEGIN:VCALENDAR
VERSION:2.0
PRODID:-//Turismo - ECPv6.15.13.1//NONSGML v1.0//EN
CALSCALE:GREGORIAN
METHOD:PUBLISH
X-ORIGINAL-URL:https://cazorla.es/turismo
X-WR-CALDESC:Eventos para Turismo
REFRESH-INTERVAL;VALUE=DURATION:PT1H
X-Robots-Tag:noindex
X-PUBLISHED-TTL:PT1H
BEGIN:VTIMEZONE
TZID:UTC
BEGIN:STANDARD
TZOFFSETFROM:+0000
TZOFFSETTO:+0000
TZNAME:UTC
DTSTART:20190101T000000
END:STANDARD
END:VTIMEZONE
BEGIN:VEVENT
DTSTART;TZID=UTC:20200630T080000
DTEND;TZID=UTC:20200630T140000
DTSTAMP:20260422T234451
CREATED:20200214T111243Z
LAST-MODIFIED:20200214T111243Z
UID:4373-1593504000-1593525600@cazorla.es
SUMMARY:PLAN DE EMPLEO Y EMPRESA 2020
DESCRIPTION:   Ayuntamiento de Cazorla\n\n\n\n\n    de la Diputación Provincial de Jaén \n✅ Ayudas destinadas a empresas que amplíen sus establecimientos en la provincia de Jaén generando al menos 15    y realizando una inversión mínima de 50.000 € en inmovilizado. \n✅También para    ó\, sufragando el 25 %\, 35 %\, 45 % (según el tamaño de la empresa) de los costes salariales del empleo creado\, durante los dos primeros años. \nBases\, solicitud y anexos aquí  https://bit.ly/2HolW3O \n El plazo finaliza el 30 de Junio de 2020. \n#Empleo #Empresa
URL:https://cazorla.es/turismo/events/plan-de-empleo-y-empresa-2020/
LOCATION:JAÉN
END:VEVENT
BEGIN:VEVENT
DTSTART;TZID=UTC:20200630T080000
DTEND;TZID=UTC:20200630T200000
DTSTAMP:20260422T234451
CREATED:20200211T123959Z
LAST-MODIFIED:20200211T123959Z
UID:4366-1593504000-1593547200@cazorla.es
SUMMARY:Adaptar las antenas colectivas de TDT en Andalucía
DESCRIPTION:   Ayuntamiento de Cazorla\n\n\n\n\n🖥 Comienza la cuenta atrás para adaptar las antenas colectivas de TDT en Andalucía por el Segundo Dividendo Digital \n#Cazorla\, es uno de los municipios a los que le afecta este dividendo. \n🔸Los canales se emitirán en las nuevas frecuencias a partir del 17 de febrero de 2020. \n🔸Los canales dejarán de emitirse en las antiguas frecuencias a partir del 30 de junio de 2020. \n🙋‍♀️🙋‍♂️¿Qué tengo que hacer para seguir viendo la TDT? \nPuedes ver toda la información en este enlace 👉https://bit.ly/2HbEPH8\, para leer la noticia pincha aquí 👉https://bit.ly/3bsiFOX \nEl #Gobierno de #España ha previsto un plan de ayudas para sufragar los costes derivados de las adaptaciones\, puedes leer la información relativa aquí 👉 https://bit.ly/31HlFlW \n#Digitalización #TDT
URL:https://cazorla.es/turismo/events/adaptar-las-antenas-colectivas-de-tdt-en-andalucia-2/
LOCATION:JAÉN
END:VEVENT
END:VCALENDAR