BEGIN:VCALENDAR
VERSION:2.0
PRODID:-//Turismo - ECPv6.15.13.1//NONSGML v1.0//EN
CALSCALE:GREGORIAN
METHOD:PUBLISH
X-WR-CALNAME:Turismo
X-ORIGINAL-URL:https://cazorla.es/turismo
X-WR-CALDESC:Eventos para Turismo
REFRESH-INTERVAL;VALUE=DURATION:PT1H
X-Robots-Tag:noindex
X-PUBLISHED-TTL:PT1H
BEGIN:VTIMEZONE
TZID:UTC
BEGIN:STANDARD
TZOFFSETFROM:+0000
TZOFFSETTO:+0000
TZNAME:UTC
DTSTART:20200101T000000
END:STANDARD
END:VTIMEZONE
BEGIN:VEVENT
DTSTART;VALUE=DATE:20210927
DTEND;VALUE=DATE:20211004
DTSTAMP:20260421T165351
CREATED:20210903T164958Z
LAST-MODIFIED:20210928T150540Z
UID:4757-1632700800-1633305599@cazorla.es
SUMMARY:Fiestas del Adelantamiento
DESCRIPTION:Ya está disponible toda la programación de la II Fiesta del Adelantamiento de Cazorla. Del 27 de septiembre al 3 de octubre podremos disfrutar de todo tipo de actividades\, pasacalles\, ponencias\, degustaciones\, exhibiciones\, teatro\, danza\, música inspirados en una época única… y tú eres el/la protagonista. ¡Te esperamos!\n\n\n\nPuedes descargar toda la información aquí: Programación II Fiesta del Adelantamiento 2021
URL:https://cazorla.es/turismo/events/fiestas-del-adelantamiento/
LOCATION:JAÉN
ATTACH;FMTTYPE=image/jpeg:https://cazorla.es/turismo/wp-content/uploads/2021/09/AF-Fiesta-del-Adelantamiento-2021-02-scaled.jpg
END:VEVENT
BEGIN:VEVENT
DTSTART;VALUE=DATE:20211004
DTEND;VALUE=DATE:20211011
DTSTAMP:20260421T165351
CREATED:20210928T150833Z
LAST-MODIFIED:20210928T150931Z
UID:4855-1633305600-1633910399@cazorla.es
SUMMARY:Proyección Action Movie Cazorla
DESCRIPTION:En el Teatro de la Merced de Cazorla.
URL:https://cazorla.es/turismo/events/proyeccion-action-movie-cazorla/
LOCATION:Teatro de la Merced\, Plaza Francisco Martínez 1\, CAZORLA\, JAÉN\, 23470\, España
ATTACH;FMTTYPE=image/jpeg:https://cazorla.es/turismo/wp-content/uploads/2021/09/descarga.jpeg
END:VEVENT
BEGIN:VEVENT
DTSTART;TZID=UTC:20211015T210000
DTEND;TZID=UTC:20211015T223000
DTSTAMP:20260421T165351
CREATED:20210928T151152Z
LAST-MODIFIED:20210928T151152Z
UID:4859-1634331600-1634337000@cazorla.es
SUMMARY:Teatro de Sala: Alfonsina\, la muerte y el mar
DESCRIPTION:DISPONIBLE LA PROGRAMACIÓN DEL FESTIVAL INTERNACIONAL DE TEATRO DE #Cazorla\n\n\nCon el mes de octubre llega el Festival Internacional de Teatro de Cazorla con una programación muy especial para sus ciclos de sala y teatro. Del 15 de octubre al 4 de diciembre Cazorla se convierte en capital del Teatro.\n\n\nLa puedes conocer aquí: https://bit.ly/3m3NrUt\n\n\nAdemás\, en la web www.cazorla.es/teatro podrás conocer más sobre las obras de Teatro y Teatrino del Festival\, fichas técnicas\, vídeos adicionales y toda la información sobre otros años.\n\n\n¡Que comience el espectáculo!
URL:https://cazorla.es/turismo/events/teatro-de-sala-alfonsina-la-muerte-y-el-mar/
LOCATION:Teatro de la Merced\, Plaza Francisco Martínez 1\, CAZORLA\, JAÉN\, 23470\, España
ATTACH;FMTTYPE=image/jpeg:https://cazorla.es/turismo/wp-content/uploads/2021/09/Programa-de-Feria-y-Fiestas-2021_page-0032.jpg
END:VEVENT
BEGIN:VEVENT
DTSTART;TZID=UTC:20211022T210000
DTEND;TZID=UTC:20211022T223000
DTSTAMP:20260421T165351
CREATED:20210928T151255Z
LAST-MODIFIED:20210928T151255Z
UID:4862-1634936400-1634941800@cazorla.es
SUMMARY:Teatro de Sala: Le plancher
DESCRIPTION:DISPONIBLE LA PROGRAMACIÓN DEL FESTIVAL INTERNACIONAL DE TEATRO DE #Cazorla\n\n\nCon el mes de octubre llega el Festival Internacional de Teatro de Cazorla con una programación muy especial para sus ciclos de sala y teatro. Del 15 de octubre al 4 de diciembre Cazorla se convierte en capital del Teatro.\n\n\nLa puedes conocer aquí: https://bit.ly/3m3NrUt\n\n\nAdemás\, en la web www.cazorla.es/teatro podrás conocer más sobre las obras de Teatro y Teatrino del Festival\, fichas técnicas\, vídeos adicionales y toda la información sobre otros años.\n\n\n¡Que comience el espectáculo!
URL:https://cazorla.es/turismo/events/teatro-de-sala-le-plancher/
LOCATION:Teatro de la Merced\, Plaza Francisco Martínez 1\, CAZORLA\, JAÉN\, 23470\, España
ATTACH;FMTTYPE=image/jpeg:https://cazorla.es/turismo/wp-content/uploads/2021/09/Programa-de-Feria-y-Fiestas-2021_page-0032.jpg
END:VEVENT
END:VCALENDAR