BEGIN:VCALENDAR
VERSION:2.0
PRODID:-//Turismo - ECPv6.15.13.1//NONSGML v1.0//EN
CALSCALE:GREGORIAN
METHOD:PUBLISH
X-WR-CALNAME:Turismo
X-ORIGINAL-URL:https://cazorla.es/turismo
X-WR-CALDESC:Eventos para Turismo
REFRESH-INTERVAL;VALUE=DURATION:PT1H
X-Robots-Tag:noindex
X-PUBLISHED-TTL:PT1H
BEGIN:VTIMEZONE
TZID:UTC
BEGIN:STANDARD
TZOFFSETFROM:+0000
TZOFFSETTO:+0000
TZNAME:UTC
DTSTART:20230101T000000
END:STANDARD
END:VTIMEZONE
BEGIN:VEVENT
DTSTART;VALUE=DATE:20240907
DTEND;VALUE=DATE:20240908
DTSTAMP:20260421T160323
CREATED:20240626T092606Z
LAST-MODIFIED:20240626T092606Z
UID:5221-1725667200-1725753599@cazorla.es
SUMMARY:Cazorla Suena - Día 3
DESCRIPTION:
URL:https://cazorla.es/turismo/events/cazorla-suena-dia-3/
LOCATION:JAÉN
END:VEVENT
BEGIN:VEVENT
DTSTART;VALUE=DATE:20240908
DTEND;VALUE=DATE:20240909
DTSTAMP:20260421T160323
CREATED:20240624T101852Z
LAST-MODIFIED:20240624T101852Z
UID:5185-1725753600-1725839999@cazorla.es
SUMMARY:XIV Maratón BTT Sierra de Cazorla
DESCRIPTION:Cazorla acogerá por decimo cuarta vez a sus ciclistas en el Maratón BTT Sierra de Cazorla. \nPueden encontrar más información en la página oficial del evento o en BikeZona
URL:https://cazorla.es/turismo/events/xiv-maraton-btt-sierra-de-cazorla/
LOCATION:JAÉN
END:VEVENT
BEGIN:VEVENT
DTSTART;VALUE=DATE:20240914
DTEND;VALUE=DATE:20240920
DTSTAMP:20260421T160323
CREATED:20240626T103549Z
LAST-MODIFIED:20240626T103549Z
UID:5223-1726272000-1726790399@cazorla.es
SUMMARY:Feria y fiestas de Cazorla
DESCRIPTION:Tienen lugar un año más las fiestas en honor al Cristo del Consuelo. \nMás información próximamente…
URL:https://cazorla.es/turismo/events/feria-y-fiestas-de-cazorla/
LOCATION:JAÉN
END:VEVENT
END:VCALENDAR