BEGIN:VCALENDAR
VERSION:2.0
PRODID:-//Turismo - ECPv6.15.13.1//NONSGML v1.0//EN
CALSCALE:GREGORIAN
METHOD:PUBLISH
X-WR-CALNAME:Turismo
X-ORIGINAL-URL:https://cazorla.es/turismo
X-WR-CALDESC:Eventos para Turismo
REFRESH-INTERVAL;VALUE=DURATION:PT1H
X-Robots-Tag:noindex
X-PUBLISHED-TTL:PT1H
BEGIN:VTIMEZONE
TZID:UTC
BEGIN:STANDARD
TZOFFSETFROM:+0000
TZOFFSETTO:+0000
TZNAME:UTC
DTSTART:20230101T000000
END:STANDARD
END:VTIMEZONE
BEGIN:VEVENT
DTSTART;VALUE=DATE:20241005
DTEND;VALUE=DATE:20241006
DTSTAMP:20260421T175859
CREATED:20240626T110408Z
LAST-MODIFIED:20240626T110408Z
UID:5227-1728086400-1728172799@cazorla.es
SUMMARY:Gran Fondo
DESCRIPTION:La Gran Fondo Sierra de Cazorla\, Segura y Las Villas estará recorrerá 144Kms con 2075 metros de desnivel positivo. Si buscas un reto te animamos a participar. \nMás información en la Web Oficial
URL:https://cazorla.es/turismo/events/gran-fondo/
LOCATION:Calles de Cazorla y Parque Natural
END:VEVENT
END:VCALENDAR